BEGIN:VCALENDAR
VERSION:2.0
PRODID:-//Mahjong International League - ECPv6.3.3.1//NONSGML v1.0//EN
CALSCALE:GREGORIAN
METHOD:PUBLISH
X-WR-CALNAME:Mahjong International League
X-ORIGINAL-URL:https://mahjong-mil.org
X-WR-CALDESC:Events for Mahjong International League
REFRESH-INTERVAL;VALUE=DURATION:PT1H
X-Robots-Tag:noindex
X-PUBLISHED-TTL:PT1H
BEGIN:VTIMEZONE
TZID:UTC
BEGIN:STANDARD
TZOFFSETFROM:+0000
TZOFFSETTO:+0000
TZNAME:UTC
DTSTART:20230101T000000
END:STANDARD
END:VTIMEZONE
BEGIN:VEVENT
DTSTART;VALUE=DATE:20231202
DTEND;VALUE=DATE:20231203
DTSTAMP:20260421T175505
CREATED:20240130T092031Z
LAST-MODIFIED:20240416T193738Z
UID:107-1701475200-1701561599@mahjong-mil.org
SUMMARY:The 2nd SBR Moscow Open Juniors
DESCRIPTION:The 2nd SBR Moscow Open Juniors took place in Moscow\, Russia on Dec 2\, 2023. 7 junior players competed for the title of the new SBR champion.
URL:https://mahjong-mil.org/event/the-2nd-sbr-moscow-open-juniors/
ATTACH;FMTTYPE=image/jpeg:https://mahjong-mil.org/wp-content/uploads/2024/01/Group_1.jpg
END:VEVENT
BEGIN:VEVENT
DTSTART;VALUE=DATE:20231202
DTEND;VALUE=DATE:20231203
DTSTAMP:20260421T175505
CREATED:20240130T092054Z
LAST-MODIFIED:20240318T080454Z
UID:109-1701475200-1701561599@mahjong-mil.org
SUMMARY:The 3rd South American Riichi Championship 3
DESCRIPTION:The 3rd South American Riichi Championship will be held in São Paulo\, Brazil from Dec 2 to 3\, 2023. 80 Riichi players all over the world will take part in\, and the top players will get cash prize
URL:https://mahjong-mil.org/event/the-3rd-south-american-riichi-championship-3/
ATTACH;FMTTYPE=image/png:https://mahjong-mil.org/wp-content/uploads/2024/01/Rectangle-150.png
END:VEVENT
END:VCALENDAR