BEGIN:VCALENDAR
VERSION:2.0
PRODID:-//Mahjong International League - ECPv6.3.3.1//NONSGML v1.0//EN
CALSCALE:GREGORIAN
METHOD:PUBLISH
X-WR-CALNAME:Mahjong International League
X-ORIGINAL-URL:https://mahjong-mil.org
X-WR-CALDESC:Events for Mahjong International League
REFRESH-INTERVAL;VALUE=DURATION:PT1H
X-Robots-Tag:noindex
X-PUBLISHED-TTL:PT1H
BEGIN:VTIMEZONE
TZID:UTC
BEGIN:STANDARD
TZOFFSETFROM:+0000
TZOFFSETTO:+0000
TZNAME:UTC
DTSTART:20230101T000000
END:STANDARD
END:VTIMEZONE
BEGIN:VEVENT
DTSTART;VALUE=DATE:20230602
DTEND;VALUE=DATE:20230603
DTSTAMP:20260421T150010
CREATED:20240225T115637Z
LAST-MODIFIED:20240225T115637Z
UID:1278-1685664000-1685750399@mahjong-mil.org
SUMMARY:The 2nd South American Riichi Championship
DESCRIPTION:A ton of players across all of South America (and some from beyond!) are coming to compete and The 8 best players will get their seats on the World Mahjong Sports Games 2018
URL:https://mahjong-mil.org/event/the-2nd-south-american-riichi-championship/
ATTACH;FMTTYPE=image/png:https://mahjong-mil.org/wp-content/uploads/2024/02/Frame-33665.png
END:VEVENT
END:VCALENDAR