BEGIN:VCALENDAR
VERSION:2.0
PRODID:-//Mahjong International League - ECPv6.3.3.1//NONSGML v1.0//EN
CALSCALE:GREGORIAN
METHOD:PUBLISH
X-ORIGINAL-URL:https://mahjong-mil.org
X-WR-CALDESC:Events for Mahjong International League
REFRESH-INTERVAL;VALUE=DURATION:PT1H
X-Robots-Tag:noindex
X-PUBLISHED-TTL:PT1H
BEGIN:VTIMEZONE
TZID:UTC
BEGIN:STANDARD
TZOFFSETFROM:+0000
TZOFFSETTO:+0000
TZNAME:UTC
DTSTART:20230101T000000
END:STANDARD
END:VTIMEZONE
BEGIN:VEVENT
DTSTART;VALUE=DATE:20230201
DTEND;VALUE=DATE:20230202
DTSTAMP:20260421T121554
CREATED:20240130T075734Z
LAST-MODIFIED:20240225T170731Z
UID:97-1675209600-1675295999@mahjong-mil.org
SUMMARY:1st China Mahjong Open as the 3rd Sage of Intelligence Cup of Hangzhou City Mind Sports Games
DESCRIPTION:SBR/MCR Preliminary: above Amateur 6 Duan. Final: qualified top 64 for SBR; qualified top 16 for MCR. All participants should be certificated by the MIL Certification of Mahjong Level operated by Hangzhou Branch of China Qiyuan. \n  \nFree registration for the qualified players; 5 Preliminaries for top 64 players for SBR final; 1 Preliminary for top 16 players for MCR final. SBR Final: 64 players\, 64 to 32 Round-robin for Day 1\, 32 to 16 Game Sync for Day 2\, 16 to Champion Game Sync for Day 3. MCR Final: 16 players\, Individual Duplicate for 80 games during 10 rounds. All cash prize includes taxes: 800\,000 RMB for cash prize for SBR final\, and the Champion will win 200\,000 RMB\, 200\,000 RMB for cash prize for MCR final\, and the Champion will win 50\,000 RMB. Link of the event information: https://mp.weixin.qq.com/s/gmdHi4YHAAjIZK1_NCujmA
URL:https://mahjong-mil.org/event/1st-china-mahjong-open-as-the-3rd-sage-of-intelligence-cup-of-hangzhou-city-mind-sports-games/
ATTACH;FMTTYPE=image/png:https://mahjong-mil.org/wp-content/uploads/2024/01/e1.png
END:VEVENT
END:VCALENDAR