BEGIN:VCALENDAR
VERSION:2.0
PRODID:-//Mahjong International League - ECPv6.3.3.1//NONSGML v1.0//EN
CALSCALE:GREGORIAN
METHOD:PUBLISH
X-WR-CALNAME:Mahjong International League
X-ORIGINAL-URL:https://mahjong-mil.org
X-WR-CALDESC:Events for Mahjong International League
REFRESH-INTERVAL;VALUE=DURATION:PT1H
X-Robots-Tag:noindex
X-PUBLISHED-TTL:PT1H
BEGIN:VTIMEZONE
TZID:UTC
BEGIN:STANDARD
TZOFFSETFROM:+0000
TZOFFSETTO:+0000
TZNAME:UTC
DTSTART:20250101T000000
END:STANDARD
END:VTIMEZONE
BEGIN:VEVENT
DTSTART;VALUE=DATE:20250329
DTEND;VALUE=DATE:20250401
DTSTAMP:20260419T140335
CREATED:20250123T051540Z
LAST-MODIFIED:20250624T064437Z
UID:2491-1743206400-1743465599@mahjong-mil.org
SUMMARY:Taipei Intercity MCR Exchange Tournament
DESCRIPTION:  \nGeneral Information \nTaipei Intercity MCR Exchange Tournament \n台北城市國際標準麻將交流賽 \nDates: 2025. 3. 29 – 3. 31 \nTournament Venue \nCML competition Base \nB1.\, No.32\, Sec. 3\, Bade Rd.\, Songshan Dist.\, Taipei City \nFormat \nIndividual Event: 3 days\, 10 rounds (4-4-2) \nRegistration fee: NT$ 2\,500 (Pay upon registration) \n  \nSchedule \nMarch 29 (Saturday) \n09：00 ~ 09：20          Registration & rules briefing \n09：20 ~ 11：00          1st Round (100 minutes) \n11：20 ~ 13：00          2nd Round (100 minutes) \n13：00 ~ 14：00          Lunch break \n14：00 ~ 15：40          3rd Round (100 minutes) \n16：00 ~ 17：40          4th Round (100 minutes) \nMarch 30 (Sunday) \n09：00 ~ 09：20          Registration \n09：20 ~ 11：00          5th Round (100 minutes) \n11：20 ~ 13：00          6th Round (100 minutes) \n13：00 ~ 14：00          Lunch break \n14：00 ~ 15：40          7th Round (100 minutes) \n16：00 ~ 17：40          8th Round (100 minutes) \nMarch 31 (Monday) \n09：00 ~ 09：20          Registration \n09：20 ~ 11：00          9th Round (100 minutes) \n11：20 ~ 13：10          10th Round (110 minutes) \n13：30 ~ 14：00          Awards \n  \nPrizes \n1st to 8th place: Cash prizes & trophies \nHighest score award: Cash prize \nWin the final match (only apply to specific tables) \n  \nVenue and Transportation Information \nVenue｜CML competition Base \nB1.\, No.32\, Sec. 3\, Bade Rd.\, Songshan Dist.\, Taipei City  Phone: +886 2-25777166 \nNearby landmarks: Taipei Municipal Stadium\, Taipei Arena \nTraffic Guide \nFrom Taoyuan International Airport \nTaoyuan Airport MRT→ Taipei Main Station→ transfer to \nGreen Line MRT→ Taipei Arena Station→ walk 10 min \nFrom within Taipei City \nAny MRT Station→ transfer to Green Line MRT→ Taipei \nArena Station→ walk 10 min \n  \nRules \nMIL: Mahjong Competition Rules(1998\, Trial)\, in Chinese Version \nTIMET organizing committee: 2025 TIMET Supplementary Rules \n  \nSupervising: Mahjong International League \nRegistration | by E-mail: cttma.offical@gmail.com \nRegistration is on a first-come\, first-served basis via email. The last players who are unable to form a full table will be dropped from registration.
URL:https://mahjong-mil.org/event/taipei-intercity-mcr-exchange-tournament/
LOCATION:CML competition Base\, B1.\, No.32\, Sec. 3\, Bade Rd.\, Songshan Dist.\, Taipei City
ATTACH;FMTTYPE=image/jpeg:https://mahjong-mil.org/wp-content/uploads/2025/01/台北2.jpg
END:VEVENT
END:VCALENDAR