BEGIN:VCALENDAR
VERSION:2.0
PRODID:-//Mahjong International League - ECPv6.3.3.1//NONSGML v1.0//EN
CALSCALE:GREGORIAN
METHOD:PUBLISH
X-WR-CALNAME:Mahjong International League
X-ORIGINAL-URL:https://mahjong-mil.org
X-WR-CALDESC:Events for Mahjong International League
REFRESH-INTERVAL;VALUE=DURATION:PT1H
X-Robots-Tag:noindex
X-PUBLISHED-TTL:PT1H
BEGIN:VTIMEZONE
TZID:Europe/Moscow
BEGIN:STANDARD
TZOFFSETFROM:+0300
TZOFFSETTO:+0300
TZNAME:MSK
DTSTART:20240101T000000
END:STANDARD
TZID:UTC
BEGIN:STANDARD
TZOFFSETFROM:+0000
TZOFFSETTO:+0000
TZNAME:UTC
DTSTART:20250101T000000
END:STANDARD
END:VTIMEZONE
BEGIN:VEVENT
DTSTART;TZID=Europe/Moscow:20240301T000000
DTEND;TZID=Europe/Moscow:20250228T000000
DTSTAMP:20260421T151526
CREATED:20240301T110810Z
LAST-MODIFIED:20250123T062108Z
UID:1803-1709251200-1740700800@mahjong-mil.org
SUMMARY:Annual MCR Marathon 2024-2025 Launch
DESCRIPTION:Mahjong International League (MIL) and MahjongSoft are pleased to announce Annual MCR Marathon 2024-2025\, a long-term open online tournament\, which starts on 01.03.2024 at 00:00 and ends on 28.02.2025 at 23:59 (UTC+3).\nMarathon is opened to all players\, with no restrictions with respect to participation\, or the number of accounted games. \nPeriods\nAnnual MCR Marathon 2024-2025 is composed of four “seasons”: \n\n“Spring”\, 01.03-31.05.2024\n“Summer”\, 01.06-31.08.2024\n“Autumn”\, 01.09-30.11.2024\n“Winter”\, 01.12.2024-28.02.2025\n\nIn turn\, any “season” consists of three monthly periods\, each starts on 1st day of the accounted month at 00:00 and ends at 23:59 (UTC+3) of the last day of the respective month. \nResults and Ranking\nAll games played by a player within a monthly period are then consolidated using four-component formula to get player’s score. All player’s scores are then ranked accordingly to get rank (place) and basic rank for the considered period.\nThe player’s seasonal result is a sum of TWO BEST basic rank values from the considered season.\nThe player’s annual result is a sum of seasonal result values taken from each of four periods.\nComment: for details on formulas and ranking procedures please refer to MCR Marathon/Information page. \nPrizes\nAnnual MCR Marathon 2024-2025: \n\nthe best player will receive a mahjong set\ntop 3 players will receive medals\n\nEach “season”: \n\ntop 3 players will receive medals\n\nIn March 2025 40 best MCR Marathon players taken from winners of “seasons” and Annual MCR Marathon 2024-2025 overall will compete in “MCR Marathon 2024-2025 Winners Duplicate Tournament” with the additional prizes from Mahjong International League (MIL). All the necessary details about such “Winners DMCR Tournament” will be provided closer to the tournament date. \nHow to Participate?\nTo enter MCR Marathon\, please\, enter the table marked “MCR Marathon” on the Mahjongsoft starting page. The table of results is available at Consolidated Marathon Results page (please\, choose the rules and period in a drop-down menu accordingly). The table of annual results is available at Results of Annual MCR Marathon page.
URL:https://mahjong-mil.org/event/annual-mcr-marathon-2024-2025-launch/
ATTACH;FMTTYPE=image/png:https://mahjong-mil.org/wp-content/uploads/2024/02/1677082592.png
ORGANIZER;CN="Mahjongsoft":MAILTO:support@mahjongsoft.com
END:VEVENT
BEGIN:VEVENT
DTSTART;VALUE=DATE:20250219
DTEND;VALUE=DATE:20250225
DTSTAMP:20260421T151526
CREATED:20240807T011802Z
LAST-MODIFIED:20250123T062013Z
UID:2286-1739923200-1740441599@mahjong-mil.org
SUMMARY:Nanyang Modern Mahjong Mindsport Tournament 2025
DESCRIPTION:Nanyang Modern Mahjong Mindsport Tournament 2025  \n2025 南洋新雀智力运动赛 \n  \nTournament Overview \n  \nThe Nanyang Modern Mahjong Mindsport Tournament finally returns after a long hiatus! The third edition of \nthis Singapore-organised MCR tournament will take place in February 2025\, on board Royal Caribbean’s Anthem  \nof the Seas\, departing from Singapore. This tournament is organised jointly by Singapore Sparrows Mahjong \nNetwork and Quesheng International Mahjong Club in partnership with Citystate Cruises\, and supported by the \nMahjong International League. \n  \nAnthem of the Seas will offer a family-friendly itinerary that allows guests to visit two ports-of-call in Southeast \nAsia along with many entertainment options onboard the ship. This includes two whole days in Phuket\, Thailand\, \nwhere there will be lots of time for beachside activities\, water sports\, seafood meals\, and exploration of Phuket \nIsland. Interested competitors are welcome to come along with their families so that they can enjoy both a \nchallenging international mind sport tournament and a fun-filled cruise vacation! \n  \nGeneral Information \nDates \n19th February 2025 to 24th February 2025. \n  \nTournament Venue \nAnthem of the Seas (Royal Caribbean International)\, departure from Singapore. \n  \nRegistration Fee \nNil\, if room package is booked with our partner travel agent\, Citystate Cruises. \nSGD 300.00\, otherwise (if room package is booked with other agents\, or if using membership benefits). \n  \nAccommodation Costs for Cruise \nSGD 899.00 per person for early-bird promotional fares (twin-sharing standard rooms). See below for more detailed rates. \nFares after the early-bird promotional period will be higher\, following prevailing rates. \n  \nRegistration Deadlines (including payment for cruise package) \n15th September 2024\, for registration of interest. (In the event that there is not enough interest\, this tournament will be cancelled.) \n30th September 2024\, for payment of early-bird promotional fares. \n  \nNumber of Competitors \nA minimum of 64 players\, and a maximum of 72 players. \n  \nRules \nMahjong Competition Rules\, 1998 edition as interpreted by the Mahjong International League (MIL)\, viz. the China Majiang Federation MCR Tournament Rules (2017 version with English translation). \n  \nTournament Format \n8 games in Danish System for player-matching (non-elimination\, strong-against-strong). \n  \nPrizes \nThis tournament has prizes for the top 8 individuals. \n  \n  \nCruise Information \nName of Vessel: Royal Caribbean Anthem of the Seas \nSailing Dates: 19th February 2025 to 24th February 2025 \n  \nCruise Itinerary \n  \n\n\n\nDate\nPort of Call\nArrival Time\nDeparture Time\n\n\n19th (Wed)\nSingapore\n—\n16:30\n\n\n20th (Thu)\nPenang\, Malaysia\n14:00\n21:00\n\n\n21st (Fri)\nPhuket\, Thailand\n08:00\n—\n\n\n22nd (Sat)\nPhuket\, Thailand\n—\n20:00\n\n\n23rd (Sun)\ncruising at sea\n—\n—\n\n\n24th (Mon)\nSingapore\n07:00\n—\n\n\n\nCheck-in at Marina Bay Cruise Centre Singapore: 11.00 am to 2.00 pm. Gate closes after 2.30 pm\, and latecomers will not be allowed to board. \nCruise Fares \nThe standard fare for each person is based on a twin-sharing Interior Stateroom. Other cabins are also available\, see table of prices for the early-bird promotion below. \n  \n\n\n\nCat.\nType of Cabin\nTotal per Person (in SGD)\n\n\nTwin-Sharing\nSingle Occupancy\n\n\n4U\nInterior Room\n899.00\n1\,557.00\n\n\n2N\nOcean View Room *\n989.00\n1\,737.00\n\n\n4D\nBalcony Room\n1\,169.00\n2\,097.00\n\n\n\n* Some room types are in limited quantity\, so please check with us for availability and prevailing rates. \n  \n** Some rooms can accommodate 3 or 4 guests\, depending on the cabin’s configuration. However\, the pricing is not so ideal. Hence\, it is recommended that 3 adults choose one twin-sharing room and a single room instead of a triple-sharing room. Please check with us for prevailing rates (no early-bird promotional fare available). \n  \n*** Other room types (Junior Suites\, etc.) are also available. Please check with us for rates for such rooms. \n  \nFares are all in SGD\, and are inclusive of port taxes of SGD 89.00 and pre-paid gratuities of SGD 122.00. Fares cover all meals and most activities onboard. Additional charges will apply for alcohol\, premium beverages\, internet\, shore excursions\, spa services\, and specialty dining. \n  \nThe fares shown above are the early-bird promotional rates offered by our partner company\, Citystate Cruises\, and are valid until 30th September 2024 (date of payment). Fares offered after the early-bird promotional period will be higher and will follow prevailing rates then. \n  \nTournament Information \nRules: Mahjong Competition Rules published by the General Administration of Sport of China in  1998\, as interpreted by the Mahjong International League (MIL)\, in the form of the tournament rules used by the China Majiang Federation (see CMF MCR Tournament Rules 2017) A pre-tournament briefing will be conducted for players unfamiliar with this version of the rules. The referees for this tournament will be supported by MIL. \n  \nTournament format: A total of 8 games. Match-ups for the first game will be random (players will draw lots)\, and  will be according to rank (based on total table-point and competition-point scores) from the second game onwards. \n  \nAlloted time for each game: 115 minutes. When the alloted time runs out\, players still in play are allowed to finish the current deal\, but cannot start a new deal. \n  \n  \nTournament schedule \n  \n\n\n\nDate\nTime\nEvent\n\n\n19th February (Wed)\n5.00 pm – 12.00 am\nSign-In\, Free Play\n\n\n  \n20th February (Thu)\n8.30 am – 10.25 am\nGame 1\n\n\n10.25 am – 11.00 am\nBreak\n\n\n11.00 am – 12.55 pm\nGame 2\n\n\n12.55 pm – 12.00 am\nFree Play\n\n\n  \n21st February (Fri)\n8.30 am – 10.25 am\nGame 3\n\n\n10.25 am – 11.00 am\nBreak\n\n\n11.00 am – 12.55 pm\nGame 4\n\n\n12.55 pm – 12.00 am\nFree Play\n\n\n22nd February (Sat)\n8.00 am – 12.00 am\nFree Play\n\n\n  \n  \n  \n  \n23rd February (Sun)\n8.30 am – 10.25 am\nGame 5\n\n\n10.25 am – 11.00 am\nBreak\n\n\n11.00 am – 12.55 pm\nGame 6\n\n\n12.55 pm – 2.30 pm\nLunch Break\n\n\n2.30 pm – 4.25 pm\nGame 7\n\n\n4.25 pm – 5.00 pm\nBreak\n\n\n5.00 pm – 6.55 pm\nGame 8\n\n\n7.30 pm – 8.00 pm\nAward Ceremony\n\n\n8.00 pm – 12.00 am\nFree Play\n\n\n\n  \nRegistration and Payment Information \n  \nInterested  players  can  register  their  interest  or  make  enquiries  by  sending  an  email  to  Edwin  Phua  at xinmaque@yahoo.com.sg. \n  \nPayment will be made directly to Citystate Cruises\, and details on the payment process will be provided to registrants. \n  \nThe payment deadline for the early-bird promotion is 30th September 2024. \n  \nThe final deadline for registration is 10th December 2024\, if any places are left. Adjusted prevailing cruise fares will be provided upon enquiry after 30th September 2024. \n  \nRegistrations will be accepted in the order received by the organisers\, and will be confirmed once payment has been made and verified. \nAfter payment is made\, cancellations will be subject to some penalty. No refund will be allowed after 4th February 2025. \n  \n  \nContact Information \nFor registration and enquiries: \nEdwin Phua (Quesheng International Mahjong Club\, Singapore) email address: xinmaque@yahoo.com.sg
URL:https://mahjong-mil.org/event/nanyang-modern-mahjong-mindsport-tournament-2025/
ATTACH;FMTTYPE=image/jpeg:https://mahjong-mil.org/wp-content/uploads/2024/08/Anthem-of-the-Seas-e1722995226213.jpg
END:VEVENT
END:VCALENDAR